BEGIN:VCALENDAR
VERSION:2.0
PRODID:-//HD2A RASC - ECPv6.15.20//NONSGML v1.0//EN
CALSCALE:GREGORIAN
METHOD:PUBLISH
X-WR-CALNAME:HD2A RASC
X-ORIGINAL-URL:https://www.hd2arasc.org
X-WR-CALDESC:Events for HD2A RASC
REFRESH-INTERVAL;VALUE=DURATION:PT1H
X-Robots-Tag:noindex
X-PUBLISHED-TTL:PT1H
BEGIN:VTIMEZONE
TZID:America/New_York
BEGIN:DAYLIGHT
TZOFFSETFROM:-0500
TZOFFSETTO:-0400
TZNAME:EDT
DTSTART:20230312T070000
END:DAYLIGHT
BEGIN:STANDARD
TZOFFSETFROM:-0400
TZOFFSETTO:-0500
TZNAME:EST
DTSTART:20231105T060000
END:STANDARD
BEGIN:DAYLIGHT
TZOFFSETFROM:-0500
TZOFFSETTO:-0400
TZNAME:EDT
DTSTART:20240310T070000
END:DAYLIGHT
BEGIN:STANDARD
TZOFFSETFROM:-0400
TZOFFSETTO:-0500
TZNAME:EST
DTSTART:20241103T060000
END:STANDARD
BEGIN:DAYLIGHT
TZOFFSETFROM:-0500
TZOFFSETTO:-0400
TZNAME:EDT
DTSTART:20250309T070000
END:DAYLIGHT
BEGIN:STANDARD
TZOFFSETFROM:-0400
TZOFFSETTO:-0500
TZNAME:EST
DTSTART:20251102T060000
END:STANDARD
END:VTIMEZONE
BEGIN:VEVENT
DTSTART;TZID=America/New_York:20240920T120000
DTEND;TZID=America/New_York:20240920T130000
DTSTAMP:20260423T061432
CREATED:20240909T164603Z
LAST-MODIFIED:20240909T170702Z
UID:1009-1726833600-1726837200@www.hd2arasc.org
SUMMARY:MERC/MAARC Simulation Modeling Interest Group
DESCRIPTION:The Simulation Modeling Interest Group meetings are an initiative to explore the potential of simulation models to increase impact and discover potential synergies in our work. For September’s simulation modeling meeting. Colleagues from the NIH Methodology and Advanced Analytics Resource Center (MAARC)\, which is based at the University of Chicago\, will be guest presenters. The long-term mission of the MAARC is to reduce opioid use disorder and overdose\, revolutionize opioid interventions\, and to impact associated epidemics such as mental health disorders\, HCV\, and HIV. The MAARC modeling team will review the nature of their modeling projects and the ways that they work with subject matter experts\, data resources\, and decision makers to enhance impact. \nLocation: Zoom\nZoom link: https://bostonmedicalcenter.zoom.us/j/94585717363?from=addon\nMeeting ID: 945 8571 7363
URL:https://www.hd2arasc.org/events/merc-maarc-simulation-modeling-interest-group/
CATEGORIES:Grantee
ATTACH;FMTTYPE=image/jpeg:https://www.hd2arasc.org/wp-content/uploads/2023/03/bg-page-fellowshi.jpg
END:VEVENT
END:VCALENDAR