BEGIN:VCALENDAR
VERSION:2.0
PRODID:-//HD2A RASC - ECPv6.15.20//NONSGML v1.0//EN
CALSCALE:GREGORIAN
METHOD:PUBLISH
X-WR-CALNAME:HD2A RASC
X-ORIGINAL-URL:https://www.hd2arasc.org
X-WR-CALDESC:Events for HD2A RASC
REFRESH-INTERVAL;VALUE=DURATION:PT1H
X-Robots-Tag:noindex
X-PUBLISHED-TTL:PT1H
BEGIN:VTIMEZONE
TZID:America/Los_Angeles
BEGIN:DAYLIGHT
TZOFFSETFROM:-0800
TZOFFSETTO:-0700
TZNAME:PDT
DTSTART:20220313T100000
END:DAYLIGHT
BEGIN:STANDARD
TZOFFSETFROM:-0700
TZOFFSETTO:-0800
TZNAME:PST
DTSTART:20221106T090000
END:STANDARD
BEGIN:DAYLIGHT
TZOFFSETFROM:-0800
TZOFFSETTO:-0700
TZNAME:PDT
DTSTART:20230312T100000
END:DAYLIGHT
BEGIN:STANDARD
TZOFFSETFROM:-0700
TZOFFSETTO:-0800
TZNAME:PST
DTSTART:20231105T090000
END:STANDARD
BEGIN:DAYLIGHT
TZOFFSETFROM:-0800
TZOFFSETTO:-0700
TZNAME:PDT
DTSTART:20240310T100000
END:DAYLIGHT
BEGIN:STANDARD
TZOFFSETFROM:-0700
TZOFFSETTO:-0800
TZNAME:PST
DTSTART:20241103T090000
END:STANDARD
END:VTIMEZONE
BEGIN:VTIMEZONE
TZID:UTC
BEGIN:STANDARD
TZOFFSETFROM:+0000
TZOFFSETTO:+0000
TZNAME:UTC
DTSTART:20220101T000000
END:STANDARD
END:VTIMEZONE
BEGIN:VEVENT
DTSTART;TZID=America/Los_Angeles:20230927T093000
DTEND;TZID=America/Los_Angeles:20230927T110000
DTSTAMP:20260425T084348
CREATED:20230901T033427Z
LAST-MODIFIED:20230912T192112Z
UID:681-1695807000-1695812400@www.hd2arasc.org
SUMMARY:HD2A Learning Collaborative\, September 2023
DESCRIPTION:Learning Collabroatives enhance the chances of bringing data to action through trans-Innovation Project methods in data infrastructure design\, economic analytics and modeling\, and dissemination & implementation science. During this learning collaborative\, we will be hearing from the next 3 innovation projects: Neighbors/Bao/Ramsey\, Banta-Green/Hood\, and Heckmann/Sabounchi on the current successes and opportunities. We will also learn about data visualization and dashboards. This specific session will be a follow-up in topic to the HD2A/HEALing Communities joint session\, as we draw on lessons learned. This is a virtual event. Follow this link to join.
URL:https://www.hd2arasc.org/events/hd2a-learning-collaborative-september-2023/
LOCATION:NY
CATEGORIES:Grantee
ATTACH;FMTTYPE=image/jpeg:https://www.hd2arasc.org/wp-content/uploads/2023/08/terry-vlisidis-WsEbnsnKbUE-unsplash-scaled.jpg
END:VEVENT
BEGIN:VEVENT
DTSTART;TZID=America/Los_Angeles:20230914T073000
DTEND;TZID=America/Los_Angeles:20230914T090000
DTSTAMP:20260425T084348
CREATED:20230901T032027Z
LAST-MODIFIED:20230912T192220Z
UID:678-1694676600-1694682000@www.hd2arasc.org
SUMMARY:HD2A New Investigators Kickoff\, September 2023
DESCRIPTION:The HD2A New Project Orientation is a time to introduce and welcome the new Innovation Project and Acceleration Project grantees to the HD2A Program. Support centers will also orient the new grantees to technical assistance implementation support services they offer. This is a virtual meeting.  Follow this link to join the call. \n 
URL:https://www.hd2arasc.org/events/hd2a-new-project-orientation-september-2023/
LOCATION:NY
CATEGORIES:Grantee
ATTACH;FMTTYPE=image/jpeg:https://www.hd2arasc.org/wp-content/uploads/2023/08/octavian-dan-b21Ty33CqVs-unsplash-scaled.jpg
END:VEVENT
BEGIN:VEVENT
DTSTART;TZID=America/Los_Angeles:20230911T080000
DTEND;TZID=America/Los_Angeles:20230911T093000
DTSTAMP:20260425T084348
CREATED:20230901T031556Z
LAST-MODIFIED:20230912T192407Z
UID:676-1694419200-1694424600@www.hd2arasc.org
SUMMARY:HD2A and HEALing Communities\, September 2023
DESCRIPTION:The HD2A/HEALing Communities joint meeting is an excellent opportunity to connect with the HEALing Communities Program to hear insights and lessons learned on data access\, linkage\, and visualization across 4 different state environments. HEALing Communities investigators will share brief presentations of their efforts (including dashboards)\, with a significant amount of time reserved for questions\, answers\, and reflections. This is a virtual event. Follow this link to join the meeting. \n 
URL:https://www.hd2arasc.org/events/hd2a-and-healing-communities-september-2023/
LOCATION:Virtual
CATEGORIES:Grantee
ATTACH;FMTTYPE=image/jpeg:https://www.hd2arasc.org/wp-content/uploads/2023/08/claudio-schwarz-k39RGHmLoV8-unsplash.jpg
END:VEVENT
BEGIN:VEVENT
DTSTART;TZID=America/Los_Angeles:20230706T120000
DTEND;TZID=America/Los_Angeles:20230706T130000
DTSTAMP:20260425T084348
CREATED:20230427T222646Z
LAST-MODIFIED:20230601T161424Z
UID:474-1688644800-1688648400@www.hd2arasc.org
SUMMARY:HEAL Data2Action Simulation Modeling Interest Group
DESCRIPTION:The HEAL Data2Action Simulation Modeling Interest Group provides a forum for sharing applications of simulation modeling and discussion of challenges and solutions when modeling opioid use disorder. The seminar is appropriate for both experienced modelers seeking expert consultation from peers\, and investigators who do not use models\, but are interested in how simulation could synergize with and expand their HEAL Data2Action projects. \nZoom link: https://weillcornell.zoom.us/j/96961982926 \nMeeting ID: 969 6198 2926
URL:https://www.hd2arasc.org/events/heal-data2action-simulation-modeling-interest-group-jul-2023/
LOCATION:NY
CATEGORIES:Grantee
ATTACH;FMTTYPE=image/jpeg:https://www.hd2arasc.org/wp-content/uploads/2023/03/Woman-working-on-her-laptop-1-scaled.jpeg
END:VEVENT
BEGIN:VEVENT
DTSTART;TZID=America/Los_Angeles:20230530T113000
DTEND;TZID=America/Los_Angeles:20230530T130000
DTSTAMP:20260425T084348
CREATED:20230427T222155Z
LAST-MODIFIED:20230525T145919Z
UID:472-1685446200-1685451600@www.hd2arasc.org
SUMMARY:HD2A Learning Collaborative
DESCRIPTION:The overarching purpose of the HD2A Learning Collaborative is to build community\, leverage insights and resources across projects and centers\, engage in shared learning from one another\, and optimize our collective work. We expect Innovation Projects to attend together with your team. \nZoom information:\nMeeting ID: 925 2661 7044\nPassword: 840468\nMeeting URL: https://stanford.zoom.us/j/92526617044?pwd=aVRITXkvNUpwNjh4cE5aL2ZSQ05Rdz09&from=addon
URL:https://www.hd2arasc.org/events/hd2a-learning-collaborative-may-2023/
LOCATION:NY
CATEGORIES:Grantee
ATTACH;FMTTYPE=image/jpeg:https://www.hd2arasc.org/wp-content/uploads/2023/03/fidelity-min.jpeg
END:VEVENT
BEGIN:VEVENT
DTSTART;VALUE=DATE:20230530
DTEND;VALUE=DATE:20230531
DTSTAMP:20260425T084348
CREATED:20230427T223200Z
LAST-MODIFIED:20230525T145934Z
UID:475-1685404800-1685491199@www.hd2arasc.org
SUMMARY:Rapid DIMS deadline
DESCRIPTION:Full Application is due May 30th 2023
URL:https://www.hd2arasc.org/events/rapid-dims-deadline-may-2023/
LOCATION:NY
CATEGORIES:Grantee
END:VEVENT
END:VCALENDAR